BEGIN:VCALENDAR
VERSION:2.0
PRODID:-//wp-events-plugin.com//7.2.3.1//EN
TZID:Europe/Brussels
X-WR-TIMEZONE:Europe/Brussels
BEGIN:VEVENT
UID:62@pluiedegraines.be
DTSTART;TZID=Europe/Brussels:20250511T090000
DTEND;TZID=Europe/Brussels:20250511T170000
DTSTAMP:20250221T102110Z
URL:https://www.pluiedegraines.be/evenements/atelier-survie-j-2/
SUMMARY:Atelier Survie J-2
DESCRIPTION:J-2 : 11 MAI 2025\n🔥Se Chauffer - atelier feu n°2\n🌿 Cui
 sine sauvage\n🔪 Couteaux\n🏹Chasser - Tir primitif atelier n°2\n? Qu
 estions réponses - trucs et astuces\n\nA partir de 13 ans\n\nINSCRIPTION 
 OBLIGATOIRE UNIQUEMENT via email : info@pluiedegraines.be\nINFO : Thomas K
 eutgen  +32 470 71 38 86
ATTACH;FMTTYPE=image/jpeg:https://www.pluiedegraines.be/wp-content/uploads
 /Atelier-Survie-2025.jpg
CATEGORIES:Adultes
LOCATION:ASBL Dans une Pluie de Graines\, Rue Vesdray 6\, Goé-Limbourg\, 4
 834\, Liège\, Belgique
X-APPLE-STRUCTURED-LOCATION;VALUE=URI;X-ADDRESS=Rue Vesdray 6\, Goé-Limbou
 rg\, 4834\, Liège\, Belgique;X-APPLE-RADIUS=100;X-TITLE=ASBL Dans une Plu
 ie de Graines:geo:0,0
END:VEVENT
BEGIN:VTIMEZONE
TZID:Europe/Brussels
X-LIC-LOCATION:Europe/Brussels
BEGIN:DAYLIGHT
DTSTART:20250330T030000
TZOFFSETFROM:+0100
TZOFFSETTO:+0200
TZNAME:CEST
END:DAYLIGHT
END:VTIMEZONE
END:VCALENDAR