BEGIN:VCALENDAR
VERSION:2.0
PRODID:-//wp-events-plugin.com//7.2.3.1//EN
TZID:Europe/Brussels
X-WR-TIMEZONE:Europe/Brussels
BEGIN:VEVENT
UID:36@pluiedegraines.be
DTSTART;TZID=Europe/Brussels:20220410T140000
DTEND;TZID=Europe/Brussels:20220410T173000
DTSTAMP:20220320T104602Z
URL:https://www.pluiedegraines.be/evenements/balade-de-printemps-chasse-au
 x-tresors/
SUMMARY:Balade de Printemps - Chasse aux trésors
DESCRIPTION:Vous avez pu suivre notre Asbl via Graines de rêves tv sur You
 tube durant l'hiver. Le printemps montre le bout de son nez et il est temp
 s de se retrouver. Venez nous rejoindre pour notre première balade de l'a
 nnée une chasse aux trésors pour les grands et les petits le Dimanche 10
  avril 2022. Vous pourriez y découvrir nos petits êtres fabuleux ChampMi
 nions et Kaillou-X\n\nRendez-vous Rue Vesdray n°6 à Goé Limbourg le dim
 anche 10 avril à 14:00\n\nTarif :\n5€/participants (enfants de - de 12 
 ans - gratuit)\n5€/goûter Nature\n\nRéservation obligatoire soit par e
 mail à info@pluiedegraines.be ou par téléphone au 0493/44 21 83\nNos am
 is à quatre pattes sont les bienvenus
ATTACH;FMTTYPE=image/jpeg:https://www.pluiedegraines.be/wp-content/uploads
 /2022/03/Balades-Printemps-2022.jpg
CATEGORIES:Famille
LOCATION:\, \, 
X-APPLE-STRUCTURED-LOCATION;VALUE=URI;X-ADDRESS=\, ;X-APPLE-RADIUS=100;X-TI
 TLE=:geo:0,0
END:VEVENT
BEGIN:VTIMEZONE
TZID:Europe/Brussels
X-LIC-LOCATION:Europe/Brussels
BEGIN:DAYLIGHT
DTSTART:20220327T030000
TZOFFSETFROM:+0100
TZOFFSETTO:+0200
TZNAME:CEST
END:DAYLIGHT
END:VTIMEZONE
END:VCALENDAR