BEGIN:VCALENDAR
VERSION:2.0
PRODID:-//wp-events-plugin.com//7.2.3.1//EN
TZID:Europe/Brussels
X-WR-TIMEZONE:Europe/Brussels
BEGIN:VEVENT
UID:37@pluiedegraines.be
DTSTART;TZID=Europe/Brussels:20221031T150000
DTEND;TZID=Europe/Brussels:20221031T180000
DTSTAMP:20221008T071646Z
URL:https://www.pluiedegraines.be/evenements/balade-halloween-aux-flambeau
 x/
SUMMARY:Balade Halloween aux Flambeaux
DESCRIPTION:VENEZ\, PETITS &amp\; GRANDS\, DU VAMPIRE AU ZOMBIE\nEN PASSANT
  PAR LA SORCIERE !\nVENEZ CHASSER LES ESPRITS\nAUX DETOURS DES CHEMINS FAN
 TASTIQUES\n&nbsp\;
ATTACH;FMTTYPE=image/jpeg:https://www.pluiedegraines.be/wp-content/uploads
 /2022/10/Balade-Halloween-2022.jpg
CATEGORIES:Famille
LOCATION:\, \, 
X-APPLE-STRUCTURED-LOCATION;VALUE=URI;X-ADDRESS=\, ;X-APPLE-RADIUS=100;X-TI
 TLE=:geo:0,0
END:VEVENT
BEGIN:VTIMEZONE
TZID:Europe/Brussels
X-LIC-LOCATION:Europe/Brussels
BEGIN:STANDARD
DTSTART:20221030T020000
TZOFFSETFROM:+0200
TZOFFSETTO:+0100
TZNAME:CET
END:STANDARD
END:VTIMEZONE
END:VCALENDAR