BEGIN:VCALENDAR
VERSION:2.0
PRODID:-//wp-events-plugin.com//7.2.3.1//EN
TZID:Europe/Brussels
X-WR-TIMEZONE:Europe/Brussels
BEGIN:VEVENT
UID:65@pluiedegraines.be
DTSTART;TZID=Europe/Brussels:20250921T110000
DTEND;TZID=Europe/Brussels:20250921T170000
DTSTAMP:20250720T115550Z
URL:https://www.pluiedegraines.be/evenements/journee-zen-nature-2/
SUMMARY:Journée Zen Nature
DESCRIPTION:PROGRAMME - JOURNEE ZEN NATURE – 21 Septembre 2025\n🙋‍
 ♀️11h00 - Accueil\n🌱11h30 - Cueillette de plantes sauvages\n🍳12h
 30 – Apéro cuisine sauvage suivi de votre piquenique (à prévoir)\n
 🧘‍♀️ 13h30 – Yoga\n🎶 14h30 – Voyage Sonore\n🌲 15h30 - B
 ain de Forêt\n🍀 16h30 – Cercle partage des ressentis de la journée 
 accompagner de cartes oracles\n\nAu plaisir de vous y retrouver en mode Ze
 n\nRéservation via email : criss.hensch@gmail.com (pour la zen-attitude 
 nous limitons le nombre de participants à 15 - donc pensez à réserver 
 😁- prix de la journée : 45€ - un acompte de 15€ vous sera demand
 é lors de votre inscription)
ATTACH;FMTTYPE=image/jpeg:https://www.pluiedegraines.be/wp-content/uploads
 /Journee-Zen-Nature-affiche-2025-2.jpg
CATEGORIES:Adultes
LOCATION:ASBL Dans une Pluie de Graines\, Rue Vesdray 6\, Goé-Limbourg\, 4
 834\, Liège\, Belgique
X-APPLE-STRUCTURED-LOCATION;VALUE=URI;X-ADDRESS=Rue Vesdray 6\, Goé-Limbou
 rg\, 4834\, Liège\, Belgique;X-APPLE-RADIUS=100;X-TITLE=ASBL Dans une Plu
 ie de Graines:geo:0,0
END:VEVENT
BEGIN:VTIMEZONE
TZID:Europe/Brussels
X-LIC-LOCATION:Europe/Brussels
BEGIN:DAYLIGHT
DTSTART:20250330T030000
TZOFFSETFROM:+0100
TZOFFSETTO:+0200
TZNAME:CEST
END:DAYLIGHT
END:VTIMEZONE
END:VCALENDAR