BEGIN:VCALENDAR
VERSION:2.0
PRODID:-//wp-events-plugin.com//7.2.3.1//EN
TZID:Europe/Brussels
X-WR-TIMEZONE:Europe/Brussels
BEGIN:VEVENT
UID:2@pluiedegraines.be
DTSTART;TZID=Europe/Brussels:20190619T140000
DTEND;TZID=Europe/Brussels:20190619T170000
DTSTAMP:20190617T130401Z
URL:https://www.pluiedegraines.be/evenements/le-coup-de-baguette-magique-q
 ui-transformera-lortie-en-un-delicieux-cake/
SUMMARY:Le coup de baguette magique qui transformera l'ortie en un délicie
 ux cake
DESCRIPTION:Après-midi magique qui te révèlera quelques secrets sur les 
 plantes sauvages de chez nous ainsi que des recettes que tu pourras réali
 ser et ensuite déguster !
ATTACH;FMTTYPE=image/jpeg:https://www.pluiedegraines.be/wp-content/uploads
 /2019/04/ortie-e1556360160140.jpg
CATEGORIES:6 à 10 ans
LOCATION:ASBL Dans une Pluie de Graines\, Rue Vesdray 6\, Goé-Limbourg\, 4
 834\, Liège\, Belgique
X-APPLE-STRUCTURED-LOCATION;VALUE=URI;X-ADDRESS=Rue Vesdray 6\, Goé-Limbou
 rg\, 4834\, Liège\, Belgique;X-APPLE-RADIUS=100;X-TITLE=ASBL Dans une Plu
 ie de Graines:geo:0,0
END:VEVENT
BEGIN:VTIMEZONE
TZID:Europe/Brussels
X-LIC-LOCATION:Europe/Brussels
BEGIN:DAYLIGHT
DTSTART:20190331T030000
TZOFFSETFROM:+0100
TZOFFSETTO:+0200
TZNAME:CEST
END:DAYLIGHT
END:VTIMEZONE
END:VCALENDAR