BEGIN:VCALENDAR
VERSION:2.0
PRODID:-//wp-events-plugin.com//7.2.3.1//EN
TZID:Europe/Brussels
X-WR-TIMEZONE:Europe/Brussels
BEGIN:VEVENT
UID:47@pluiedegraines.be
DTSTART;TZID=Europe/Brussels:20240429T083000
DTEND;TZID=Europe/Brussels:20240503T170000
DTSTAMP:20240214T093627Z
URL:https://www.pluiedegraines.be/evenements/stage-nature-deviens-un-jeune
 -potager/
SUMMARY:Stage Nature "Deviens un jeune Pot’ager !"
DESCRIPTION:Viens découvrir les mille et un secrets de la terre !\n\nSous
  forme de jeux éducatifs et d’activités pratiques : chercher le ph de
  la terre de notre potager\, faire le test du boudin\, planter diverses gr
 aines de plantes vivaces et annuelles pour aider la biodiversité\, réali
 ser différentes décorations de jardin en matière récup\, créer une sp
 irale d’Aromatiques au potager du terrain avec les enfants !\n\nSans ou
 blier les soins aux petits animaux de notre mini refuge Yggdrasill et la c
 ollaboration avec notre partenaire Marie d’Equinox qui  propose une ren
 contre avec le monde du cheval en douceur  et simplicité.
ATTACH;FMTTYPE=image/jpeg:https://www.pluiedegraines.be/wp-content/uploads
 /Presentation-Stage-Pluie-de-Graines-2024-Printemps-Ete.jpg
CATEGORIES:6 à 10 ans
LOCATION:ASBL Dans une Pluie de Graines\, Rue Vesdray 6\, Goé-Limbourg\, 4
 834\, Liège\, Belgique
X-APPLE-STRUCTURED-LOCATION;VALUE=URI;X-ADDRESS=Rue Vesdray 6\, Goé-Limbou
 rg\, 4834\, Liège\, Belgique;X-APPLE-RADIUS=100;X-TITLE=ASBL Dans une Plu
 ie de Graines:geo:0,0
END:VEVENT
BEGIN:VTIMEZONE
TZID:Europe/Brussels
X-LIC-LOCATION:Europe/Brussels
BEGIN:DAYLIGHT
DTSTART:20240331T030000
TZOFFSETFROM:+0100
TZOFFSETTO:+0200
TZNAME:CEST
END:DAYLIGHT
END:VTIMEZONE
END:VCALENDAR