BEGIN:VCALENDAR
VERSION:2.0
PRODID:-//wp-events-plugin.com//7.2.3.1//EN
TZID:Europe/Brussels
X-WR-TIMEZONE:Europe/Brussels
BEGIN:VEVENT
UID:45@pluiedegraines.be
DTSTART;TZID=Europe/Brussels:20240226T083000
DTEND;TZID=Europe/Brussels:20240301T170000
DTSTAMP:20230919T121509Z
URL:https://www.pluiedegraines.be/evenements/stage-nature-imbolc-et-le-ret
 our-de-la-lumiere/
SUMMARY:Stage Nature "Imbolc et le retour de la lumière"
DESCRIPTION:Lors de cette chouette semaine\, les enfants vont être plongé
 s dans les traditions anciennes en lien avec la Nature encore endormie mai
 s sur le point de renaître ! Ils vont pouvoir prendre conscience du reto
 ur de la lumière à l’aide d’activités manuelles enrichies de leurs 
 imaginations ainsi ils pourront créer de jolies décorations et des objet
 s symbolisant le retour du soleil !
ATTACH;FMTTYPE=image/jpeg:https://www.pluiedegraines.be/wp-content/uploads
 /2023/09/Presentation-Stage-PDG-Automne-hiver-2023-2024-scaled.jpg
CATEGORIES:6 à 10 ans
LOCATION:ASBL Dans une Pluie de Graines\, Rue Vesdray 6\, Goé-Limbourg\, 4
 834\, Liège\, Belgique
X-APPLE-STRUCTURED-LOCATION;VALUE=URI;X-ADDRESS=Rue Vesdray 6\, Goé-Limbou
 rg\, 4834\, Liège\, Belgique;X-APPLE-RADIUS=100;X-TITLE=ASBL Dans une Plu
 ie de Graines:geo:0,0
END:VEVENT
BEGIN:VTIMEZONE
TZID:Europe/Brussels
X-LIC-LOCATION:Europe/Brussels
BEGIN:STANDARD
DTSTART:20231029T020000
TZOFFSETFROM:+0200
TZOFFSETTO:+0100
TZNAME:CET
END:STANDARD
END:VTIMEZONE
END:VCALENDAR