BEGIN:VCALENDAR
VERSION:2.0
PRODID:-//wp-events-plugin.com//7.2.3.1//EN
TZID:Europe/Brussels
X-WR-TIMEZONE:Europe/Brussels
BEGIN:VEVENT
UID:38@pluiedegraines.be
DTSTART;TZID=Europe/Brussels:20230501T083000
DTEND;TZID=Europe/Brussels:20230505T170000
DTSTAMP:20230204T064328Z
URL:https://www.pluiedegraines.be/evenements/stage-nature-printemps-mere-n
 ature-est-une-grande-artiste/
SUMMARY:Stage Nature Printemps - "Mère Nature est une grande Artiste"
DESCRIPTION:Durant une semaine  - Viens découvrir les beautés de la Natu
 re et ses bienfaits.\nTel un Arc-en-ciel nous ferons ensemble le lien entr
 e toi et le monde qui t'entoure.\nTarifs :\n\nPAF : 22€/jour/enfant (si
  votre enfant ne participe qu’à une journée)\nPAF : 110€/5 jours/en
 f. (Prix dégressif pour familles nombreuses 88€/2ème inscription et 6
 8€/3ème inscription)\n\nRemarques :\nAucun casse-croûte ni repas ne 
 seront servis – Merci de prévoir vos collations et repas\,\nRéservatio
 n obligatoire via notre site\,\nMerci de mentionner le nom de votre enfant
  et son âge.\nRéductions : Mutuelle et garde d'enfants (voir détails da
 ns tarifs-horaires-avantages - remarque en haut de page)\n
ATTACH;FMTTYPE=image/jpeg:https://www.pluiedegraines.be/wp-content/uploads
 /2023/01/Presentation-Stage-Pluie-de-Graines-2023-scaled.jpg
CATEGORIES:6 à 10 ans
LOCATION:ASBL Dans une Pluie de Graines\, Rue Vesdray 6\, Goé-Limbourg\, 4
 834\, Liège\, Belgique
X-APPLE-STRUCTURED-LOCATION;VALUE=URI;X-ADDRESS=Rue Vesdray 6\, Goé-Limbou
 rg\, 4834\, Liège\, Belgique;X-APPLE-RADIUS=100;X-TITLE=ASBL Dans une Plu
 ie de Graines:geo:0,0
END:VEVENT
BEGIN:VTIMEZONE
TZID:Europe/Brussels
X-LIC-LOCATION:Europe/Brussels
BEGIN:DAYLIGHT
DTSTART:20230326T030000
TZOFFSETFROM:+0100
TZOFFSETTO:+0200
TZNAME:CEST
END:DAYLIGHT
END:VTIMEZONE
END:VCALENDAR